Workbook

Sheet Analitico

Sheet Banco
B1: BANCO DE CUSTOS - REFERÊNCIA 1.10 | I1: AS = ATRIBUÍDO SÃO PAULO
B2: DATA PREÇO / RT (SINAPI): | D2: LOCALIDADE / DATA EMISSÃO (SINAPI): | I2: CR = COEFICIENTE DE REPRESENTATIVIDADE
I3: C = COLETADO
I4: ORIGEM DO PREÇO
B5: FONTE | C5: CÓDIGO | D5: DESCRIÇÃO | E5: UNIDADE | F5: CUSTO UNITÁRIO DESONERADO | G5: CUSTO UNITÁRIO NÃO DESONERADO | J5: % MO DESONERADO | K5: % MO NÃO DESONERADO
A7: =CONCATENAR -> Composição FNDE 03 | B7: =OFFSET(Composições!$A$1,MATCH(COUNTIF($H$1:$H7,"Composições"),Composições!$K:$K,0)-1,COLUMN(Banco!B$6)-1) -> Composição | C7: =OFFSET(Composições!$A$1,MATCH(COUNTIF($H$1:$H7,"Composições"),Composições!$K:$K,0)-1,COLUMN(Banco!C$6)-1) -> FNDE 03 | D7: =IF(COUNTIF(OFFSET(Banco!$A$6,1,0,NCOMPOSICOES),$A7)>1,"CÓDIGO REPETIDO",OFFSET(Composições!$A$1,MATCH(COUNTIF($H$1:$H7,"Composições"),Composições!$K:$K,0)-1,COLUMN(Banco!D$6)-1)) -> LIGAÇÃO PROVISÓRIA DE ÁGUA E ESGOTO (UN) | E7: =OFFSET(Composições!$A$1,MATCH(COUNTIF($H$1:$H7,"Composições"),Composições!$K:$K,0)-1,COLUMN(Banco!E$6)-1) -> UN | F7: =OFFSET(Composições!$A$1,MATCH(COUNTIF($H$1:$H7,"Composições"),Composições!$K:$K,0)-1,COLUMN(Banco!F$6)-1) -> 0 | G7: =OFFSET(Composições!$A$1,MATCH(COUNTIF($H$1:$H7,"Composições"),Composições!$K:$K,0)-1,COLUMN(Banco!G$6)-1) -> 3102.22 | H7: Composições
A8: =CONCATENAR -> Composição FNDE 244 | B8: =OFFSET(Composições!$A$1,MATCH(COUNTIF($H$1:$H8,"Composições"),Composições!$K:$K,0)-1,COLUMN(Banco!B$6)-1) -> Composição | C8: =OFFSET(Composições!$A$1,MATCH(COUNTIF($H$1:$H8,"Composições"),Composições!$K:$K,0)-1,COLUMN(Banco!C$6)-1) -> FNDE 244 | D8: =IF(COUNTIF(OFFSET(Banco!$A$6,1,0,NCOMPOSICOES),$A8)>1,"CÓDIGO REPETIDO",OFFSET(Composições!$A$1,MATCH(COUNTIF($H$1:$H8,"Composições"),Composições!$K:$K,0)-1,COLUMN(Banco!D$6)-1)) -> ADMINISTRAÇÃO LOCAL TIPO 1 (UN) | E8: =OFFSET(Composições!$A$1,MATCH(COUNTIF($H$1:$H8,"Composições"),Composições!$K:$K,0)-1,COLUMN(Banco!E$6)-1) -> UN | F8: =OFFSET(Composições!$A$1,MATCH(COUNTIF($H$1:$H8,"Composições"),Composições!$K:$K,0)-1,COLUMN(Banco!F$6)-1) -> 0 | G8: =OFFSET(Composições!$A$1,MATCH(COUNTIF($H$1:$H8,"Composições"),Composições!$K:$K,0)-1,COLUMN(Banco!G$6)-1) -> 479112.75 | H8: Composições
A9: =CONCATENAR -> Composição FNDE 231 | B9: =OFFSET(Composições!$A$1,MATCH(COUNTIF($H$1:$H9,"Composições"),Composições!$K:$K,0)-1,COLUMN(Banco!B$6)-1) -> Composição | C9: =OFFSET(Composições!$A$1,MATCH(COUNTIF($H$1:$H9,"Composições"),Composições!$K:$K,0)-1,COLUMN(Banco!C$6)-1) -> FNDE 231 | D9: =IF(COUNTIF(OFFSET(Banco!$A$6,1,0,NCOMPOSICOES),$A9)>1,"CÓDIGO REPETIDO",OFFSET(Composições!$A$1,MATCH(COUNTIF($H$1:$H9,"Composições"),Composições!$K:$K,0)-1,COLUMN(Banco!D$6)-1)) -> LOCACAO DE CONTAINER 2,30 X 6,00 M, ALT. 2,50 M, COM 1 SANITARIO, PARA ESCRITORIO, COMPLETO, SEM DIVISORIAS INTERNAS (NAO INCLUI MOBILIZACAO/DESMOBILIZACAO) (MÊS) | E9: =OFFSET(Composições!$A$1,MATCH(COUNTIF($H$1:$H9,"Composições"),Composições!$K:$K,0)-1,COLUMN(Banco!E$6)-1) -> MÊS | F9: =OFFSET(Composições!$A$1,MATCH(COUNTIF($H$1:$H9,"Composições"),Composições!$K:$K,0)-1,COLUMN(Banco!F$6)-1) -> 0 | G9: =OFFSET(Composições!$A$1,MATCH(COUNTIF($H$1:$H9,"Composições"),Composições!$K:$K,0)-1,COLUMN(Banco!G$6)-1) -> 1154.07 | H9: Composições
A10: =CONCATENAR -> Composição FNDE 230 | B10: =OFFSET(Composições!$A$1,MATCH(COUNTIF($H$1:$H10,"Composições"),Composições!$K:$K,0)-1,COLUMN(Banco!B$6)-1) -> Composição | C10: =OFFSET(Composições!$A$1,MATCH(COUNTIF($H$1:$H10,"Composições"),Composições!$K:$K,0)-1,COLUMN(Banco!C$6)-1) -> FNDE 230 | D10: =IF(COUNTIF(OFFSET(Banco!$A$6,1,0,NCOMPOSICOES),$A10)>1,"CÓDIGO REPETIDO",OFFSET(Composições!$A$1,MATCH(COUNTIF($H$1:$H10,"Composições"),Composições!$K:$K,0)-1,COLUMN(Banco!D$6)-1)) -> LOCACAO DE CONTAINER 2,30 X 6,00 M, ALT. 2,50 M, PARA ESCRITORIO, SEM DIVISORIAS INTERNAS E SEM SANITARIO (NAO INCLUI MOBILIZACAO/DESMOBILIZACAO) (MÊS) | E10: =OFFSET(Composições!$A$1,MATCH(COUNTIF($H$1:$H10,"Composições"),Composições!$K:$K,0)-1,COLUMN(Banco!E$6)-1) -> MÊS | F10: =OFFSET(Composições!$A$1,MATCH(COUNTIF($H$1:$H10,"Composições"),Composições!$K:$K,0)-1,COLUMN(Banco!F$6)-1) -> 0 | G10: =OFFSET(Composições!$A$1,MATCH(COUNTIF($H$1:$H10,"Composições"),Composições!$K:$K,0)-1,COLUMN(Banco!G$6)-1) -> 944.07 | H10: Composições
A11: =CONCATENAR -> Composição FNDE 232 | B11: =OFFSET(Composições!$A$1,MATCH(COUNTIF($H$1:$H11,"Composições"),Composições!$K:$K,0)-1,COLUMN(Banco!B$6)-1) -> Composição | C11: =OFFSET(Composições!$A$1,MATCH(COUNTIF($H$1:$H11,"Composições"),Composições!$K:$K,0)-1,COLUMN(Banco!C$6)-1) -> FNDE 232 | D11: =IF(COUNTIF(OFFSET(Banco!$A$6,1,0,NCOMPOSICOES),$A11)>1,"CÓDIGO REPETIDO",OFFSET(Composições!$A$1,MATCH(COUNTIF($H$1:$H11,"Composições"),Composições!$K:$K,0)-1,COLUMN(Banco!D$6)-1)) -> LOCACAO DE CONTAINER 2,30 X 6,00 M, ALT. 2,50 M, PARA SANITARIO, COM 4 BACIAS, 8 CHUVEIROS,1 LAVATORIO E 1 MICTORIO (NAO INCLUI MOBILIZACAO/DESMOBILIZACAO) (MÊS) | E11: =OFFSET(Composições!$A$1,MATCH(COUNTIF($H$1:$H11,"Composições"),Composições!$K:$K,0)-1,COLUMN(Banco!E$6)-1) -> MÊS | F11: =OFFSET(Composições!$A$1,MATCH(COUNTIF($H$1:$H11,"Composições"),Composições!$K:$K,0)-1,COLUMN(Banco!F$6)-1) -> 0 | G11: =OFFSET(Composições!$A$1,MATCH(COUNTIF($H$1:$H11,"Composições"),Composições!$K:$K,0)-1,COLUMN(Banco!G$6)-1) -> 1394.07 | H11: Composições
A12: =CONCATENAR -> Composição FNDE 243 | B12: =OFFSET(Composições!$A$1,MATCH(COUNTIF($H$1:$H12,"Composições"),Composições!$K:$K,0)-1,COLUMN(Banco!B$6)-1) -> Composição | C12: =OFFSET(Composições!$A$1,MATCH(COUNTIF($H$1:$H12,"Composições"),Composições!$K:$K,0)-1,COLUMN(Banco!C$6)-1) -> FNDE 243 | D12: =IF(COUNTIF(OFFSET(Banco!$A$6,1,0,NCOMPOSICOES),$A12)>1,"CÓDIGO REPETIDO",OFFSET(Composições!$A$1,MATCH(COUNTIF($H$1:$H12,"Composições"),Composições!$K:$K,0)-1,COLUMN(Banco!D$6)-1)) -> PM1 - KIT DE PORTA DE MADEIRA FRISADA, SEMI-OCA (LEVE OU MÉDIA), PADRÃO MÉDIO, 80X210CM, ESPESSURA DE 3,5CM, ITENS INCLUSOS: DOBRADIÇAS, MONTAGEM E INSTALAÇÃO DE BATENTE, FECHADURA COM EXECUÇÃO DO FURO - FORNECIMENTO E INSTALAÇÃO (UN) | E12: =OFFSET(Composições!$A$1,MATCH(COUNTIF($H$1:$H12,"Composições"),Composições!$K:$K,0)-1,COLUMN(Banco!E$6)-1) -> UN | F12: =OFFSET(Composições!$A$1,MATCH(COUNTIF($H$1:$H12,"Composições"),Composições!$K:$K,0)-1,COLUMN(Banco!F$6)-1) -> 0 | G12: =OFFSET(Composições!$A$1,MATCH(COUNTIF($H$1:$H12,"Composições"),Composições!$K:$K,0)-1,COLUMN(Banco!G$6)-1) -> 1131.78 | H12: Composições
A13: =CONCATENAR -> Composição FNDE 247 | B13: =OFFSET(Composições!$A$1,MATCH(COUNTIF($H$1:$H13,"Composições"),Composições!$K:$K,0)-1,COLUMN(Banco!B$6)-1) -> Composição | C13: =OFFSET(Composições!$A$1,MATCH(COUNTIF($H$1:$H13,"Composições"),Composições!$K:$K,0)-1,COLUMN(Banco!C$6)-1) -> FNDE 247 | D13: =IF(COUNTIF(OFFSET(Banco!$A$6,1,0,NCOMPOSICOES),$A13)>1,"CÓDIGO REPETIDO",OFFSET(Composições!$A$1,MATCH(COUNTIF($H$1:$H13,"Composições"),Composições!$K:$K,0)-1,COLUMN(Banco!D$6)-1)) -> PM 2 - KIT DE PORTA DE MADEIRA COM VENEZIANA, 80X210CM (ESPESSURA DE 3CM), PADRÃO MÉDIO, ITENS INCLUSOS: DOBRADIÇAS, MONTAGEM E INSTALAÇÃO DE BATENTE, FECHADURA COM EXECUÇÃO DO FURO - FORNECIMENTO E INSTALAÇÃO (UN) | E13: =OFFSET(Composições!$A$1,MATCH(COUNTIF($H$1:$H13,"Composições"),Composições!$K:$K,0)-1,COLUMN(Banco!E$6)-1) -> UN | F13: =OFFSET(Composições!$A$1,MATCH(COUNTIF($H$1:$H13,"Composições"),Composições!$K:$K,0)-1,COLUMN(Banco!F$6)-1) -> 0 | G13: =OFFSET(Composições!$A$1,MATCH(COUNTIF($H$1:$H13,"Composições"),Composições!$K:$K,0)-1,COLUMN(Banco!G$6)-1) -> 1876.48 | H13: Composições
A14: =CONCATENAR -> Composição FNDE 246 | B14: =OFFSET(Composições!$A$1,MATCH(COUNTIF($H$1:$H14,"Composições"),Composições!$K:$K,0)-1,COLUMN(Banco!B$6)-1) -> Composição | C14: =OFFSET(Composições!$A$1,MATCH(COUNTIF($H$1:$H14,"Composições"),Composições!$K:$K,0)-1,COLUMN(Banco!C$6)-1) -> FNDE 246 | D14: =IF(COUNTIF(OFFSET(Banco!$A$6,1,0,NCOMPOSICOES),$A14)>1,"CÓDIGO REPETIDO",OFFSET(Composições!$A$1,MATCH(COUNTIF($H$1:$H14,"Composições"),Composições!$K:$K,0)-1,COLUMN(Banco!D$6)-1)) -> PM3 - KIT DE PORTA DE MADEIRA FRISADA, SEMI-OCA (LEVE OU MÉDIA), PADRÃO MÉDIO, 80X210CM, ESPESSURA DE 3,5CM, ITENS INCLUSOS: DOBRADIÇAS, MONTAGEM E INSTALAÇÃO DE BATENTE, FECHADURA COM EXECUÇÃO DO FURO - FORNECIMENTO E INSTALAÇÃO. AF_12/2019 (UN) | E14: =OFFSET(Composições!$A$1,MATCH(COUNTIF($H$1:$H14,"Composições"),Composições!$K:$K,0)-1,COLUMN(Banco!E$6)-1) -> UN | F14: =OFFSET(Composições!$A$1,MATCH(COUNTIF($H$1:$H14,"Composições"),Composições!$K:$K,0)-1,COLUMN(Banco!F$6)-1) -> 0 | G14: =OFFSET(Composições!$A$1,MATCH(COUNTIF($H$1:$H14,"Composições"),Composições!$K:$K,0)-1,COLUMN(Banco!G$6)-1) -> 1131.78 | H14: Composições
A15: =CONCATENAR -> Composição FNDE 248 | B15: =OFFSET(Composições!$A$1,MATCH(COUNTIF($H$1:$H15,"Composições"),Composições!$K:$K,0)-1,COLUMN(Banco!B$6)-1) -> Composição | C15: =OFFSET(Composições!$A$1,MATCH(COUNTIF($H$1:$H15,"Composições"),Composições!$K:$K,0)-1,COLUMN(Banco!C$6)-1) -> FNDE 248 | D15: =IF(COUNTIF(OFFSET(Banco!$A$6,1,0,NCOMPOSICOES),$A15)>1,"CÓDIGO REPETIDO",OFFSET(Composições!$A$1,MATCH(COUNTIF($H$1:$H15,"Composições"),Composições!$K:$K,0)-1,COLUMN(Banco!D$6)-1)) -> PM4 - KIT DE PORTA DE MADEIRA COM VISOR DE VIDRO, 80X210CM (ESPESSURA DE 3CM), PADRÃO POPULAR, ITENS INCLUSOS: DOBRADIÇAS, MONTAGEM E INSTALAÇÃO DE BATENTE, FECHADURA COM EXECUÇÃO DO FURO - FORNECIMENTO E INSTALAÇÃO. AF_12/2019 (UN) | E15: =OFFSET(Composições!$A$1,MATCH(COUNTIF($H$1:$H15,"Composições"),Composições!$K:$K,0)-1,COLUMN(Banco!E$6)-1) -> UN | F15: =OFFSET(Composições!$A$1,MATCH(COUNTIF($H$1:$H15,"Composições"),Composições!$K:$K,0)-1,COLUMN(Banco!F$6)-1) -> 0 | G15: =OFFSET(Composições!$A$1,MATCH(COUNTIF($H$1:$H15,"Composições"),Composições!$K:$K,0)-1,COLUMN(Banco!G$6)-1) -> 1876.48 | H15: Composições
A16: =CONCATENAR -> Composição FNDE 249 | B16: =OFFSET(Composições!$A$1,MATCH(COUNTIF($H$1:$H16,"Composições"),Composições!$K:$K,0)-1,COLUMN(Banco!B$6)-1) -> Composição | C16: =OFFSET(Composições!$A$1,MATCH(COUNTIF($H$1:$H16,"Composições"),Composições!$K:$K,0)-1,COLUMN(Banco!C$6)-1) -> FNDE 249 | D16: =IF(COUNTIF(OFFSET(Banco!$A$6,1,0,NCOMPOSICOES),$A16)>1,"CÓDIGO REPETIDO",OFFSET(Composições!$A$1,MATCH(COUNTIF($H$1:$H16,"Composições"),Composições!$K:$K,0)-1,COLUMN(Banco!D$6)-1)) -> PM5 -PORTA EM COMPENSADO DE MADEIRA E=2cm REVESTIDA COM LAMINADO MELAMÍNICO NAS CORES: AMARELA, VERDE, LARANJA E AZUL (UN) | E16: =OFFSET(Composições!$A$1,MATCH(COUNTIF($H$1:$H16,"Composições"),Composições!$K:$K,0)-1,COLUMN(Banco!E$6)-1) -> UN | F16: =OFFSET(Composições!$A$1,MATCH(COUNTIF($H$1:$H16,"Composições"),Composições!$K:$K,0)-1,COLUMN(Banco!F$6)-1) -> 0 | G16: =OFFSET(Composições!$A$1,MATCH(COUNTIF($H$1:$H16,"Composições"),Composições!$K:$K,0)-1,COLUMN(Banco!G$6)-1) -> 1045.12 | H16: Composições
A17: =CONCATENAR -> Composição FNDE 250 | B17: =OFFSET(Composições!$A$1,MATCH(COUNTIF($H$1:$H17,"Composições"),Composições!$K:$K,0)-1,COLUMN(Banco!B$6)-1) -> Composição | C17: =OFFSET(Composições!$A$1,MATCH(COUNTIF($H$1:$H17,"Composições"),Composições!$K:$K,0)-1,COLUMN(Banco!C$6)-1) -> FNDE 250 | D17: =IF(COUNTIF(OFFSET(Banco!$A$6,1,0,NCOMPOSICOES),$A17)>1,"CÓDIGO REPETIDO",OFFSET(Composições!$A$1,MATCH(COUNTIF($H$1:$H17,"Composições"),Composições!$K:$K,0)-1,COLUMN(Banco!D$6)-1)) -> INSTALAÇÃO DE VIDRO LISO INCOLOR ESQUADRIA PM4 , E = 6 MM, EM ESQUADRIA DE MADEIRA, FIXADO COM BAGUETE (M2) | E17: =OFFSET(Composições!$A$1,MATCH(COUNTIF($H$1:$H17,"Composições"),Composições!$K:$K,0)-1,COLUMN(Banco!E$6)-1) -> M2 | F17: =OFFSET(Composições!$A$1,MATCH(COUNTIF($H$1:$H17,"Composições"),Composições!$K:$K,0)-1,COLUMN(Banco!F$6)-1) -> 0 | G17: =OFFSET(Composições!$A$1,MATCH(COUNTIF($H$1:$H17,"Composições"),Composições!$K:$K,0)-1,COLUMN(Banco!G$6)-1) -> 167.19 | H17: Composições
A18: =CONCATENAR -> Composição FNDE 04 | B18: =OFFSET(Composições!$A$1,MATCH(COUNTIF($H$1:$H18,"Composições"),Composições!$K:$K,0)-1,COLUMN(Banco!B$6)-1) -> Composição | C18: =OFFSET(Composições!$A$1,MATCH(COUNTIF($H$1:$H18,"Composições"),Composições!$K:$K,0)-1,COLUMN(Banco!C$6)-1) -> FNDE 04 | D18: =IF(COUNTIF(OFFSET(Banco!$A$6,1,0,NCOMPOSICOES),$A18)>1,"CÓDIGO REPETIDO",OFFSET(Composições!$A$1,MATCH(COUNTIF($H$1:$H18,"Composições"),Composições!$K:$K,0)-1,COLUMN(Banco!D$6)-1)) -> CHAPA METÁLICA (ALUMÍNIO) 0,90 M X 0,40 M, ESPESSURA 1 MM PARA AS PORTAS (M²) | E18: =OFFSET(Composições!$A$1,MATCH(COUNTIF($H$1:$H18,"Composições"),Composições!$K:$K,0)-1,COLUMN(Banco!E$6)-1) -> M2 | F18: =OFFSET(Composições!$A$1,MATCH(COUNTIF($H$1:$H18,"Composições"),Composições!$K:$K,0)-1,COLUMN(Banco!F$6)-1) -> 0 | G18: =OFFSET(Composições!$A$1,MATCH(COUNTIF($H$1:$H18,"Composições"),Composições!$K:$K,0)-1,COLUMN(Banco!G$6)-1) -> 213.97 | H18: Composições
... A285: =CONCATENAR -> Composição FNDE 602 | B285: =OFFSET(Composições!$A$1,MATCH(COUNTIF($H$1:$H285,"Composições"),Composições!$K:$K,0)-1,COLUMN(Banco!B$6)-1) -> Composição | C285: =OFFSET(Composições!$A$1,MATCH(COUNTIF($H$1:$H285,"Composições"),Composições!$K:$K,0)-1,COLUMN(Banco!C$6)-1) -> FNDE 602 | D285: =IF(COUNTIF(OFFSET(Banco!$A$6,1,0,NCOMPOSICOES),$A285)>1,"CÓDIGO REPETIDO",OFFSET(Composições!$A$1,MATCH(COUNTIF($H$1:$H285,"Composições"),Composições!$K:$K,0)-1,COLUMN(Banco!D$6)-1)) -> LIMPEZA GROSSA DE OBRA (M2) | E285: =OFFSET(Composições!$A$1,MATCH(COUNTIF($H$1:$H285,"Composições"),Composições!$K:$K,0)-1,COLUMN(Banco!E$6)-1) -> M2 | F285: =OFFSET(Composições!$A$1,MATCH(COUNTIF($H$1:$H285,"Composições"),Composições!$K:$K,0)-1,COLUMN(Banco!F$6)-1) -> 0 | G285: =OFFSET(Composições!$A$1,MATCH(COUNTIF($H$1:$H285,"Composições"),Composições!$K:$K,0)-1,COLUMN(Banco!G$6)-1) -> 15.84 | H285: Composições
A286: =CONCATENAR -> COTAÇÃO COT-01 | B286: =OFFSET(Cotações!$A$1,MATCH(COUNTIF($H$1:$H286,"Cotações"),Cotações!$J:$J,0)-1,COLUMN(Banco!B$6)-1) -> COTAÇÃO | C286: =OFFSET(Cotações!$A$1,MATCH(COUNTIF($H$1:$H286,"Cotações"),Cotações!$J:$J,0)-1,COLUMN(Banco!C$6)-1) -> COT-01 | D286: =IF(COUNTIF(OFFSET(Banco!$A$6,1+NCOMPOSICOES,0,NCOTACOES),$A286)>1,"CÓDIGO REPETIDO",OFFSET(Cotações!$A$1,MATCH(COUNTIF($H$1:$H286,"Cotações"),Cotações!$J:$J,0)-1,COLUMN(Banco!D$6)-1)) -> CISTERNA MODULARES TECNOTRI OU EQUIVALENTE TECNICO - 600L | E286: =OFFSET(Cotações!$A$1,MATCH(COUNTIF($H$1:$H286,"Cotações"),Cotações!$J:$J,0)-1,COLUMN(Banco!E$6)-1) -> UNIDADE | F286: =OFFSET(Cotações!$A$1,MATCH(COUNTIF($H$1:$H286,"Cotações"),Cotações!$J:$J,0)-1,COLUMN(Banco!F$6)-1) -> 1850 | G286: =OFFSET(Cotações!$A$1,MATCH(COUNTIF($H$1:$H286,"Cotações"),Cotações!$J:$J,0)-1,COLUMN(Banco!F$6)-1) -> 1850 | H286: Cotações
A287: =CONCATENAR -> COTAÇÃO COT-02 | B287: =OFFSET(Cotações!$A$1,MATCH(COUNTIF($H$1:$H287,"Cotações"),Cotações!$J:$J,0)-1,COLUMN(Banco!B$6)-1) -> COTAÇÃO | C287: =OFFSET(Cotações!$A$1,MATCH(COUNTIF($H$1:$H287,"Cotações"),Cotações!$J:$J,0)-1,COLUMN(Banco!C$6)-1) -> COT-02 | D287: =IF(COUNTIF(OFFSET(Banco!$A$6,1+NCOMPOSICOES,0,NCOTACOES),$A287)>1,"CÓDIGO REPETIDO",OFFSET(Cotações!$A$1,MATCH(COUNTIF($H$1:$H287,"Cotações"),Cotações!$J:$J,0)-1,COLUMN(Banco!D$6)-1)) -> SMART FILTRO TECNOTRI OU EQUIVALENTE | E287: =OFFSET(Cotações!$A$1,MATCH(COUNTIF($H$1:$H287,"Cotações"),Cotações!$J:$J,0)-1,COLUMN(Banco!E$6)-1) -> UNIDADE | F287: =OFFSET(Cotações!$A$1,MATCH(COUNTIF($H$1:$H287,"Cotações"),Cotações!$J:$J,0)-1,COLUMN(Banco!F$6)-1) -> 216 | G287: =OFFSET(Cotações!$A$1,MATCH(COUNTIF($H$1:$H287,"Cotações"),Cotações!$J:$J,0)-1,COLUMN(Banco!F$6)-1) -> 216 | H287: Cotações
A288: =CONCATENAR -> COTAÇÃO COT-03 | B288: =OFFSET(Cotações!$A$1,MATCH(COUNTIF($H$1:$H288,"Cotações"),Cotações!$J:$J,0)-1,COLUMN(Banco!B$6)-1) -> COTAÇÃO | C288: =OFFSET(Cotações!$A$1,MATCH(COUNTIF($H$1:$H288,"Cotações"),Cotações!$J:$J,0)-1,COLUMN(Banco!C$6)-1) -> COT-03 | D288: =IF(COUNTIF(OFFSET(Banco!$A$6,1+NCOMPOSICOES,0,NCOTACOES),$A288)>1,"CÓDIGO REPETIDO",OFFSET(Cotações!$A$1,MATCH(COUNTIF($H$1:$H288,"Cotações"),Cotações!$J:$J,0)-1,COLUMN(Banco!D$6)-1)) -> BANHHEIRA RIGIDA-BRANCA, BURIGOTTO OU EQUIVALENTE | E288: =OFFSET(Cotações!$A$1,MATCH(COUNTIF($H$1:$H288,"Cotações"),Cotações!$J:$J,0)-1,COLUMN(Banco!E$6)-1) -> UNIDADE | F288: =OFFSET(Cotações!$A$1,MATCH(COUNTIF($H$1:$H288,"Cotações"),Cotações!$J:$J,0)-1,COLUMN(Banco!F$6)-1) -> 119 | G288: =OFFSET(Cotações!$A$1,MATCH(COUNTIF($H$1:$H288,"Cotações"),Cotações!$J:$J,0)-1,COLUMN(Banco!F$6)-1) -> 119 | H288: Cotações
A289: =CONCATENAR -> COTAÇÃO COT-04 | B289: =OFFSET(Cotações!$A$1,MATCH(COUNTIF($H$1:$H289,"Cotações"),Cotações!$J:$J,0)-1,COLUMN(Banco!B$6)-1) -> COTAÇÃO | C289: =OFFSET(Cotações!$A$1,MATCH(COUNTIF($H$1:$H289,"Cotações"),Cotações!$J:$J,0)-1,COLUMN(Banco!C$6)-1) -> COT-04 | D289: =IF(COUNTIF(OFFSET(Banco!$A$6,1+NCOMPOSICOES,0,NCOTACOES),$A289)>1,"CÓDIGO REPETIDO",OFFSET(Cotações!$A$1,MATCH(COUNTIF($H$1:$H289,"Cotações"),Cotações!$J:$J,0)-1,COLUMN(Banco!D$6)-1)) -> REFLETOR REDONDO EM ALUMINIO ANODIZADO PARA LAMPADA VAPOR DE MERCURIO/SODIO, CORPO EM ALUMINIO COM PINTURA EPOXI, PARA LAMPADA E-27 DE 300 W, COM SUPORTE REDONDO E ALCA REGULAVEL PARA FIXACAO. | E289: =OFFSET(Cotações!$A$1,MATCH(COUNTIF($H$1:$H289,"Cotações"),Cotações!$J:$J,0)-1,COLUMN(Banco!E$6)-1) -> UNIDADE | F289: =OFFSET(Cotações!$A$1,MATCH(COUNTIF($H$1:$H289,"Cotações"),Cotações!$J:$J,0)-1,COLUMN(Banco!F$6)-1) -> 181.99 | G289: =OFFSET(Cotações!$A$1,MATCH(COUNTIF($H$1:$H289,"Cotações"),Cotações!$J:$J,0)-1,COLUMN(Banco!F$6)-1) -> 181.99 | H289: Cotações
A290: =CONCATENAR -> COTAÇÃO COT-05 | B290: =OFFSET(Cotações!$A$1,MATCH(COUNTIF($H$1:$H290,"Cotações"),Cotações!$J:$J,0)-1,COLUMN(Banco!B$6)-1) -> COTAÇÃO | C290: =OFFSET(Cotações!$A$1,MATCH(COUNTIF($H$1:$H290,"Cotações"),Cotações!$J:$J,0)-1,COLUMN(Banco!C$6)-1) -> COT-05 | D290: =IF(COUNTIF(OFFSET(Banco!$A$6,1+NCOMPOSICOES,0,NCOTACOES),$A290)>1,"CÓDIGO REPETIDO",OFFSET(Cotações!$A$1,MATCH(COUNTIF($H$1:$H290,"Cotações"),Cotações!$J:$J,0)-1,COLUMN(Banco!D$6)-1)) -> ADAPTADOR CONDULETE 25MM | E290: =OFFSET(Cotações!$A$1,MATCH(COUNTIF($H$1:$H290,"Cotações"),Cotações!$J:$J,0)-1,COLUMN(Banco!E$6)-1) -> UNIDADE | F290: =OFFSET(Cotações!$A$1,MATCH(COUNTIF($H$1:$H290,"Cotações"),Cotações!$J:$J,0)-1,COLUMN(Banco!F$6)-1) -> 1.03 | G290: =OFFSET(Cotações!$A$1,MATCH(COUNTIF($H$1:$H290,"Cotações"),Cotações!$J:$J,0)-1,COLUMN(Banco!F$6)-1) -> 1.03 | H290: Cotações
A291: =CONCATENAR -> COTAÇÃO COT-06 | B291: =OFFSET(Cotações!$A$1,MATCH(COUNTIF($H$1:$H291,"Cotações"),Cotações!$J:$J,0)-1,COLUMN(Banco!B$6)-1) -> COTAÇÃO | C291: =OFFSET(Cotações!$A$1,MATCH(COUNTIF($H$1:$H291,"Cotações"),Cotações!$J:$J,0)-1,COLUMN(Banco!C$6)-1) -> COT-06 | D291: =IF(COUNTIF(OFFSET(Banco!$A$6,1+NCOMPOSICOES,0,NCOTACOES),$A291)>1,"CÓDIGO REPETIDO",OFFSET(Cotações!$A$1,MATCH(COUNTIF($H$1:$H291,"Cotações"),Cotações!$J:$J,0)-1,COLUMN(Banco!D$6)-1)) -> TANQUE DE PRESSÃO PWB-24LX | E291: =OFFSET(Cotações!$A$1,MATCH(COUNTIF($H$1:$H291,"Cotações"),Cotações!$J:$J,0)-1,COLUMN(Banco!E$6)-1) -> UNIDADE | F291: =OFFSET(Cotações!$A$1,MATCH(COUNTIF($H$1:$H291,"Cotações"),Cotações!$J:$J,0)-1,COLUMN(Banco!F$6)-1) -> 835 | G291: =OFFSET(Cotações!$A$1,MATCH(COUNTIF($H$1:$H291,"Cotações"),Cotações!$J:$J,0)-1,COLUMN(Banco!F$6)-1) -> 835 | H291: Cotações
A292: =CONCATENAR -> COTAÇÃO COT-07 | B292: =OFFSET(Cotações!$A$1,MATCH(COUNTIF($H$1:$H292,"Cotações"),Cotações!$J:$J,0)-1,COLUMN(Banco!B$6)-1) -> COTAÇÃO | C292: =OFFSET(Cotações!$A$1,MATCH(COUNTIF($H$1:$H292,"Cotações"),Cotações!$J:$J,0)-1,COLUMN(Banco!C$6)-1) -> COT-07 | D292: =IF(COUNTIF(OFFSET(Banco!$A$6,1+NCOMPOSICOES,0,NCOTACOES),$A292)>1,"CÓDIGO REPETIDO",OFFSET(Cotações!$A$1,MATCH(COUNTIF($H$1:$H292,"Cotações"),Cotações!$J:$J,0)-1,COLUMN(Banco!D$6)-1)) -> RESERVATÓRIO METÁLICO CILÍNDRICO 30 MIL LITROS | E292: =OFFSET(Cotações!$A$1,MATCH(COUNTIF($H$1:$H292,"Cotações"),Cotações!$J:$J,0)-1,COLUMN(Banco!E$6)-1) -> UNIDADE | F292: =OFFSET(Cotações!$A$1,MATCH(COUNTIF($H$1:$H292,"Cotações"),Cotações!$J:$J,0)-1,COLUMN(Banco!F$6)-1) -> 42800 | G292: =OFFSET(Cotações!$A$1,MATCH(COUNTIF($H$1:$H292,"Cotações"),Cotações!$J:$J,0)-1,COLUMN(Banco!F$6)-1) -> 42800 | H292: Cotações
A293: =CONCATENAR -> COTAÇÃO COT-08 | B293: =OFFSET(Cotações!$A$1,MATCH(COUNTIF($H$1:$H293,"Cotações"),Cotações!$J:$J,0)-1,COLUMN(Banco!B$6)-1) -> COTAÇÃO | C293: =OFFSET(Cotações!$A$1,MATCH(COUNTIF($H$1:$H293,"Cotações"),Cotações!$J:$J,0)-1,COLUMN(Banco!C$6)-1) -> COT-08 | D293: =IF(COUNTIF(OFFSET(Banco!$A$6,1+NCOMPOSICOES,0,NCOTACOES),$A293)>1,"CÓDIGO REPETIDO",OFFSET(Cotações!$A$1,MATCH(COUNTIF($H$1:$H293,"Cotações"),Cotações!$J:$J,0)-1,COLUMN(Banco!D$6)-1)) -> TERMINAL AÉREO BARRA CHATA EM ALUMÍNIO 300MM | E293: =OFFSET(Cotações!$A$1,MATCH(COUNTIF($H$1:$H293,"Cotações"),Cotações!$J:$J,0)-1,COLUMN(Banco!E$6)-1) -> UNIDADE | F293: =OFFSET(Cotações!$A$1,MATCH(COUNTIF($H$1:$H293,"Cotações"),Cotações!$J:$J,0)-1,COLUMN(Banco!F$6)-1) -> 27.02 | G293: =OFFSET(Cotações!$A$1,MATCH(COUNTIF($H$1:$H293,"Cotações"),Cotações!$J:$J,0)-1,COLUMN(Banco!F$6)-1) -> 27.02 | H293: Cotações
A294: =CONCATENAR -> COTAÇÃO COT-09 | B294: =OFFSET(Cotações!$A$1,MATCH(COUNTIF($H$1:$H294,"Cotações"),Cotações!$J:$J,0)-1,COLUMN(Banco!B$6)-1) -> COTAÇÃO | C294: =OFFSET(Cotações!$A$1,MATCH(COUNTIF($H$1:$H294,"Cotações"),Cotações!$J:$J,0)-1,COLUMN(Banco!C$6)-1) -> COT-09 | D294: =IF(COUNTIF(OFFSET(Banco!$A$6,1+NCOMPOSICOES,0,NCOTACOES),$A294)>1,"CÓDIGO REPETIDO",OFFSET(Cotações!$A$1,MATCH(COUNTIF($H$1:$H294,"Cotações"),Cotações!$J:$J,0)-1,COLUMN(Banco!D$6)-1)) -> BARRA RE-BAR REDONDA AÇO GALVANIZADO 80MM2 | E294: =OFFSET(Cotações!$A$1,MATCH(COUNTIF($H$1:$H294,"Cotações"),Cotações!$J:$J,0)-1,COLUMN(Banco!E$6)-1) -> UNIDADE | F294: =OFFSET(Cotações!$A$1,MATCH(COUNTIF($H$1:$H294,"Cotações"),Cotações!$J:$J,0)-1,COLUMN(Banco!F$6)-1) -> 46 | G294: =OFFSET(Cotações!$A$1,MATCH(COUNTIF($H$1:$H294,"Cotações"),Cotações!$J:$J,0)-1,COLUMN(Banco!F$6)-1) -> 46 | H294: Cotações
A295: =CONCATENAR -> SINAPI 104658 | B295: SINAPI | C295: 104658 | D295: PISO PODOTÁTIL DE ALERTA OU DIRECIONAL, DE CONCRETO, ASSENTADO SOBRE ARGAMASSA. AF_03/2024 | E295: M2 | G295: 159.82 | H295: SINAPI -
A296: =CONCATENAR -> SINAPI 105002 | B296: SINAPI | C296: 105002 | D296: RAMPA DE ACESSIBILIDADE EM CONCRETO MOLDADO IN LOCO, EM CALÇADA NOVA COM LARGURA MAIOR OU IGUAL À 3,00 M, FCK 25MPA, COM PISO PODOTÁTIL. AF_03/2024 | E296: UN | G296: 743.04
A297: =CONCATENAR -> SINAPI 105004 | B297: SINAPI | C297: 105004 | D297: RAMPA DE ACESSIBILIDADE EM CONCRETO MOLDADO IN LOCO, EM CALÇADA NOVA COM LARGURA MENOR À 3,00 M, FCK 25MPA, COM PISO PODOTÁTIL. AF_03/2024 | E297: M2 | G297: 126.95
A298: =CONCATENAR -> SINAPI 105003 | B298: SINAPI | C298: 105003 | D298: RAMPA DE ACESSIBILIDADE EM CONCRETO MOLDADO IN LOCO, EM CALÇADA PRÉ EXISTENTE COM LARGURA MAIOR OU IGUAL À 3,00 M, FCK 25MPA, COM PISO PODOTÁTIL. AF_03/2024 | E298: UN | G298: 1207.43
A299: =CONCATENAR -> SINAPI 105005 | B299: SINAPI | C299: 105005 | D299: RAMPA DE ACESSIBILIDADE EM CONCRETO MOLDADO IN LOCO, EM CALÇADA PRÉ EXISTENTE COM LARGURA MENOR À 3,00 M, FCK 25MPA, COM PISO PODOTÁTIL. AF_03/2024 | E299: M2 | G299: 212.94
A300: =CONCATENAR -> SINAPI 105006 | B300: SINAPI | C300: 105006 | D300: RAMPA DE ACESSIBILIDADE EM CONCRETO PRÉ MOLDADO, EM CALÇADA NOVA COM LARGURA MAIOR OU IGUAL À 3,00 M, FCK 25MPA, COM PISO PODOTÁTIL. AF_03/2024 | E300: UN | G300: 0
A301: =CONCATENAR -> SINAPI 104999 | B301: SINAPI | C301: 104999 | D301: RAMPA DE ACESSIBILIDADE EM CONCRETO PRÉ MOLDADO, EM CALÇADA PRÉ EXISTENTE COM LARGURA MAIOR OU IGUAL À 3,00 M, FCK 25MPA, COM PISO PODOTÁTIL. AF_03/2024 | E301: UN | G301: 0
A302: =CONCATENAR -> SINAPI 105000 | B302: SINAPI | C302: 105000 | D302: RAMPA DE ACESSIBILIDADE PARA ACESSO A EDIFICAÇÕES COM INCLINAÇÃO DE 8,33% EM CONCRETO MOLDADO IN LOCO, COM LARGURA DE 1,20M, FCK 25MPA, NÃO ARMADA, COM JUNTA A CADA 2M COM CORTE À SECO. AF_03/2024 | E302: M | G302: 1523.41
A303: =CONCATENAR -> SINAPI 105001 | B303: SINAPI | C303: 105001 | D303: RAMPA DE ACESSIBILIDADE PARA ACESSO A EDIFICAÇÕES COM INCLINAÇÃO DE 8,33% EM CONCRETO MOLDADO IN LOCO, COM LARGURA DE 1,50M, FCK 25MPA, NÃO ARMADA, COM JUNTA A CADA 2M COM CORTE À SECO. AF_03/2024 | E303: M | G303: 1558.5
A304: =CONCATENAR -> SINAPI 89306 | B304: SINAPI | C304: 89306 | D304: ALVENARIA ESTRUTURAL DE BLOCOS CERÂMICOS 14X19X29, (ESPESSURA DE 14 CM), UTILIZANDO COLHER DE PEDREIRO E ARGAMASSA DE ASSENTAMENTO COM PREPARO EM BETONEIRA. AF_03/2023 | E304: M2 | G304: 98.06
A305: =CONCATENAR -> SINAPI 89307 | B305: SINAPI | C305: 89307 | D305: ALVENARIA ESTRUTURAL DE BLOCOS CERÂMICOS 14X19X29, (ESPESSURA DE 14 CM), UTILIZANDO COLHER DE PEDREIRO E ARGAMASSA DE ASSENTAMENTO COM PREPARO MANUAL. AF_03/2023 | E305: M2 | G305: 100.08
A306: =CONCATENAR -> SINAPI 89290 | B306: SINAPI | C306: 89290 | D306: ALVENARIA ESTRUTURAL DE BLOCOS CERÂMICOS 14X19X29, (ESPESSURA DE 14 CM), UTILIZANDO PALHETA E ARGAMASSA DE ASSENTAMENTO COM PREPARO EM BETONEIRA. AF_03/2023 | E306: M2 | G306: 80.51
A307: =CONCATENAR -> SINAPI 89291 | B307: SINAPI | C307: 89291 | D307: ALVENARIA ESTRUTURAL DE BLOCOS CERÂMICOS 14X19X29, (ESPESSURA DE 14 CM), UTILIZANDO PALHETA E ARGAMASSA DE ASSENTAMENTO COM PREPARO MANUAL. AF_03/2023 | E307: M2 | G307: 82.02
...

Sheet Composições
B1: COMPOSIÇÕES
I4: CUSTO UNIT | J4: CUSTO UNIT
B5: =OFFSET(Composições!$A$1,MATCH(COUNTIF($H$1:$H5,"Composições"),Composições!$K:$K,0)-1,COLUMN(Banco!B$6)-1) -> Composição | C5: =OFFSET(Composições!$A$1,MATCH(COUNTIF($H$1:$H5,"Composições"),Composições!$K:$K,0)-1,COLUMN(Banco!C$6)-1) -> FNDE 03 | D5: =IF(COUNTIF(OFFSET(Banco!$A$6,1,0,NCOMPOSICOES),$A5)>1,"CÓDIGO REPETIDO",OFFSET(Composições!$A$1,MATCH(COUNTIF($H$1:$H5,"Composições"),Composições!$K:$K,0)-1,COLUMN(Banco!D$6)-1)) -> LIGAÇÃO PROVISÓRIA DE ÁGUA E ESGOTO (UN) | E5: =OFFSET(Composições!$A$1,MATCH(COUNTIF($H$1:$H5,"Composições"),Composições!$K:$K,0)-1,COLUMN(Banco!E$6)-1) -> UN | F5: =OFFSET(Composições!$A$1,MATCH(COUNTIF($H$1:$H5,"Composições"),Composições!$K:$K,0)-1,COLUMN(Banco!F$6)-1) -> 0 | G5: =OFFSET(Composições!$A$1,MATCH(COUNTIF($H$1:$H5,"Composições"),Composições!$K:$K,0)-1,COLUMN(Banco!G$6)-1) -> 3102.22 | H5: Composições
A7: =CONCATENAR | F7: =IF($L7>0,SUM(OFFSET(F7,1,0,$L7),0)) -> 0 | G7: =IF($L7>0,SUM(OFFSET(G7,1,0,$L7),0)) -> 0 | I7: =IF(ISERROR(F7),0,F7) -> 0 | J7: =IF(ISERROR(G7),0,G7) -> 0 | K7: =COUNTA($A$1:$A7)-1 -> 0 | L7: =IF(MAX(K:K)=K7,MATCH(9999999,$K:$K)+1,MATCH(K7+1,K:K,0))-ROW(L7)-2 -> 2 | M7: =IF(AND(OR(I7<>0,J7<>0),N7="Sim"),"F","") | N7: Sim
D8: =IF(ISNUMBER($L8),OFFSET(Banco!$A$1,Composições!$L8-1,COLUMN(Composições!D8)-1),"") | E8: =IF(ISNUMBER($L8),OFFSET(Banco!$A$1,Composições!$L8-1,COLUMN(Composições!E8)-1),"") | F8: =TRUNC($H8*ROUND(I8,2),2) -> 0 | G8: =TRUNC($H8*ROUND(J8,2),2) -> 0 | I8: =IF(ISNUMBER($L8),VALUE(OFFSET(Banco!$A$1,Composições!$L8-1,COLUMN(Composições!I8)-4)),0) -> 0 | J8: =IF(ISNUMBER($L8),VALUE(OFFSET(Banco!$A$1,Composições!$L8-1,COLUMN(Composições!J8)-4)),0) -> 0 | K8: =COUNTA($A$1:$A8)-1 -> 0 | L8: =MATCH(Composições!CONCATENAR,Banco!$A:$A,0) -> #N/A | M8: =IF(OR(ISERROR(L8),H8="",H8=0),"",OFFSET($M$1,MATCH(K8,$K$1:$K8,0)-1,0))
K9: =COUNTA($A$1:$A9)-1 -> 0 | M9: =IF(OFFSET($M$1,MATCH(OFFSET(K9,-1,0),$K$1:$K9,0)-1,0)="F","F","")
B10: FONTE | C10: CÓDIGO | D10: DESCRIÇÃO | E10: UNIDADE | H10: COEFIC. | I10: DESONERADO | J10: NÃO DESONER. | M10: FILTRO | N10: IMPRIMIR
A11: =CONCATENAR -> Composição FNDE 03 | B11: Composição | C11: FNDE 03 | D11: LIGAÇÃO PROVISÓRIA DE ÁGUA E ESGOTO (UN) | E11: UN | F11: =IF($L11>0,SUM(OFFSET(F11,1,0,$L11),0)) -> 0 | G11: =IF($L11>0,SUM(OFFSET(G11,1,0,$L11),0)) -> 3102.22 | I11: =IF(ISERROR(F11),0,F11) -> 0 | J11: =IF(ISERROR(G11),0,G11) -> 3102.22 | K11: =COUNTA($A$1:$A11)-1 -> 1 | L11: =IF(MAX(K:K)=K11,MATCH(9999999,$K:$K)+1,MATCH(K11+1,K:K,0))-ROW(L11)-2 -> 13 | M11: =IF(AND(OR(I11<>0,J11<>0),N11="Sim"),"F","") -> F | N11: Sim
B12: SINAPI-I | C12: 370 | D12: =IF(ISNUMBER($L12),OFFSET(Banco!$A$1,Composições!$L12-1,COLUMN(Composições!D12)-1),"") -> AREIA MEDIA - POSTO JAZIDA/FORNECEDOR (RETIRADO NA JAZIDA, SEM TRANSPORTE) | E12: =IF(ISNUMBER($L12),OFFSET(Banco!$A$1,Composições!$L12-1,COLUMN(Composições!E12)-1),"") -> M3 | F12: =TRUNC($H12*ROUND(I12,2),2) -> 0 | G12: =TRUNC($H12*ROUND(J12,2),2) -> 2.6 | H12: 0.02 | I12: =IF(ISNUMBER($L12),VALUE(OFFSET(Banco!$A$1,Composições!$L12-1,COLUMN(Composições!I12)-4)),0) -> 0 | J12: =IF(ISNUMBER($L12),VALUE(OFFSET(Banco!$A$1,Composições!$L12-1,COLUMN(Composições!J12)-4)),0) -> 130 | K12: =COUNTA($A$1:$A12)-1 -> 1 | L12: =MATCH(Composições!CONCATENAR,Banco!$A:$A,0) -> 10247 | M12: =IF(OR(ISERROR($L12),$H12="",$H12=0),"",OFFSET(M$1,MATCH($K12,$K$1:$K12,0)-1,0)) -> F
B13: SINAPI-I | C13: 10420 | D13: =IF(ISNUMBER($L13),OFFSET(Banco!$A$1,Composições!$L13-1,COLUMN(Composições!D13)-1),"") -> BACIA SANITARIA (VASO) CONVENCIONAL, DE LOUCA BRANCA, SIFAO APARENTE, SAIDA VERTICAL (SEM ASSENTO) | E13: =IF(ISNUMBER($L13),OFFSET(Banco!$A$1,Composições!$L13-1,COLUMN(Composições!E13)-1),"") -> UN | F13: =TRUNC($H13*ROUND(I13,2),2) -> 0 | G13: =TRUNC($H13*ROUND(J13,2),2) -> 209.9 | H13: 1 | I13: =IF(ISNUMBER($L13),VALUE(OFFSET(Banco!$A$1,Composições!$L13-1,COLUMN(Composições!I13)-4)),0) -> 0 | J13: =IF(ISNUMBER($L13),VALUE(OFFSET(Banco!$A$1,Composições!$L13-1,COLUMN(Composições!J13)-4)),0) -> 209.9 | K13: =COUNTA($A$1:$A13)-1 -> 1 | L13: =MATCH(Composições!CONCATENAR,Banco!$A:$A,0) -> 10329 | M13: =IF(OR(ISERROR($L13),$H13="",$H13=0),"",OFFSET(M$1,MATCH($K13,$K$1:$K13,0)-1,0)) -> F
B14: SINAPI-I | C14: 11868 | D14: =IF(ISNUMBER($L14),OFFSET(Banco!$A$1,Composições!$L14-1,COLUMN(Composições!D14)-1),"") -> CAIXA D'AGUA / RESERVATORIO EM POLIESTER REFORCADO COM FIBRA DE VIDRO,1000 LITROS, COM TAMPA | E14: =IF(ISNUMBER($L14),OFFSET(Banco!$A$1,Composições!$L14-1,COLUMN(Composições!E14)-1),"") -> UN | F14: =TRUNC($H14*ROUND(I14,2),2) -> 0 | G14: =TRUNC($H14*ROUND(J14,2),2) -> 690.51 | H14: 1 | I14: =IF(ISNUMBER($L14),VALUE(OFFSET(Banco!$A$1,Composições!$L14-1,COLUMN(Composições!I14)-4)),0) -> 0 | J14: =IF(ISNUMBER($L14),VALUE(OFFSET(Banco!$A$1,Composições!$L14-1,COLUMN(Composições!J14)-4)),0) -> 690.51 | K14: =COUNTA($A$1:$A14)-1 -> 1 | L14: =MATCH(Composições!CONCATENAR,Banco!$A:$A,0) -> 10785 | M14: =IF(OR(ISERROR($L14),$H14="",$H14=0),"",OFFSET(M$1,MATCH($K14,$K$1:$K14,0)-1,0)) -> F
B15: SINAPI-I | C15: 20247 | D15: =IF(ISNUMBER($L15),OFFSET(Banco!$A$1,Composições!$L15-1,COLUMN(Composições!D15)-1),"") -> PREGO DE ACO POLIDO COM CABECA 15 X 15 (1 1/4 X 13) | E15: =IF(ISNUMBER($L15),OFFSET(Banco!$A$1,Composições!$L15-1,COLUMN(Composições!E15)-1),"") -> KG | F15: =TRUNC($H15*ROUND(I15,2),2) -> 0 | G15: =TRUNC($H15*ROUND(J15,2),2) -> 20.21 | H15: 1 | I15: =IF(ISNUMBER($L15),VALUE(OFFSET(Banco!$A$1,Composições!$L15-1,COLUMN(Composições!I15)-4)),0) -> 0 | J15: =IF(ISNUMBER($L15),VALUE(OFFSET(Banco!$A$1,Composições!$L15-1,COLUMN(Composições!J15)-4)),0) -> 20.21 | K15: =COUNTA($A$1:$A15)-1 -> 1 | L15: =MATCH(Composições!CONCATENAR,Banco!$A:$A,0) -> 13494 | M15: =IF(OR(ISERROR($L15),$H15="",$H15=0),"",OFFSET(M$1,MATCH($K15,$K$1:$K15,0)-1,0)) -> F
B16: SINAPI-I | C16: 20205 | D16: =IF(ISNUMBER($L16),OFFSET(Banco!$A$1,Composições!$L16-1,COLUMN(Composições!D16)-1),"") -> RIPA APARELHADA *1,5 X 5* CM, EM MACARANDUBA/MASSARANDUBA, ANGELIM OU EQUIVALENTE DA REGIAO | E16: =IF(ISNUMBER($L16),OFFSET(Banco!$A$1,Composições!$L16-1,COLUMN(Composições!E16)-1),"") -> M | F16: =TRUNC($H16*ROUND(I16,2),2) -> 0 | G16: =TRUNC($H16*ROUND(J16,2),2) -> 36.64 | H16: 8 | I16: =IF(ISNUMBER($L16),VALUE(OFFSET(Banco!$A$1,Composições!$L16-1,COLUMN(Composições!I16)-4)),0) -> 0 | J16: =IF(ISNUMBER($L16),VALUE(OFFSET(Banco!$A$1,Composições!$L16-1,COLUMN(Composições!J16)-4)),0) -> 4.58 | K16: =COUNTA($A$1:$A16)-1 -> 1 | L16: =MATCH(Composições!CONCATENAR,Banco!$A:$A,0) -> 13661 | M16: =IF(OR(ISERROR($L16),$H16="",$H16=0),"",OFFSET(M$1,MATCH($K16,$K$1:$K16,0)-1,0)) -> F
B17: SINAPI-I | C17: 21009 | D17: =IF(ISNUMBER($L17),OFFSET(Banco!$A$1,Composições!$L17-1,COLUMN(Composições!D17)-1),"") -> TUBO ACO GALVANIZADO COM COSTURA, CLASSE LEVE, DN 20 MM (3/4"), E = 2,25 MM, *1,3* KG/M (NBR 5580) | E17: =IF(ISNUMBER($L17),OFFSET(Banco!$A$1,Composições!$L17-1,COLUMN(Composições!E17)-1),"") -> M | F17: =TRUNC($H17*ROUND(I17,2),2) -> 0 | G17: =TRUNC($H17*ROUND(J17,2),2) -> 814.8 | H17: 30 | I17: =IF(ISNUMBER($L17),VALUE(OFFSET(Banco!$A$1,Composições!$L17-1,COLUMN(Composições!I17)-4)),0) -> 0 | J17: =IF(ISNUMBER($L17),VALUE(OFFSET(Banco!$A$1,Composições!$L17-1,COLUMN(Composições!J17)-4)),0) -> 27.16 | K17: =COUNTA($A$1:$A17)-1 -> 1 | L17: =MATCH(Composições!CONCATENAR,Banco!$A:$A,0) -> 14331 | M17: =IF(OR(ISERROR($L17),$H17="",$H17=0),"",OFFSET(M$1,MATCH($K17,$K$1:$K17,0)-1,0)) -> F
B18: SINAPI-I | C18: 9841 | D18: =IF(ISNUMBER($L18),OFFSET(Banco!$A$1,Composições!$L18-1,COLUMN(Composições!D18)-1),"") -> TUBO PVC, SERIE R, DN 100 MM, PARA ESGOTO OU AGUAS PLUVIAIS PREDIAL (NBR 5688) | E18: =IF(ISNUMBER($L18),OFFSET(Banco!$A$1,Composições!$L18-1,COLUMN(Composições!E18)-1),"") -> M | F18: =TRUNC($H18*ROUND(I18,2),2) -> 0 | G18: =TRUNC($H18*ROUND(J18,2),2) -> 139.55 | H18: 5 | I18: =IF(ISNUMBER($L18),VALUE(OFFSET(Banco!$A$1,Composições!$L18-1,COLUMN(Composições!I18)-4)),0) -> 0 | J18: =IF(ISNUMBER($L18),VALUE(OFFSET(Banco!$A$1,Composições!$L18-1,COLUMN(Composições!J18)-4)),0) -> 27.91 | K18: =COUNTA($A$1:$A18)-1 -> 1 | L18: =MATCH(Composições!CONCATENAR,Banco!$A:$A,0) -> 14585 | M18: =IF(OR(ISERROR($L18),$H18="",$H18=0),"",OFFSET(M$1,MATCH($K18,$K$1:$K18,0)-1,0)) -> F
B19: SINAPI-I | C19: 9841 | D19: =IF(ISNUMBER($L19),OFFSET(Banco!$A$1,Composições!$L19-1,COLUMN(Composições!D19)-1),"") -> TUBO PVC, SERIE R, DN 100 MM, PARA ESGOTO OU AGUAS PLUVIAIS PREDIAL (NBR 5688) | E19: =IF(ISNUMBER($L19),OFFSET(Banco!$A$1,Composições!$L19-1,COLUMN(Composições!E19)-1),"") -> M | F19: =TRUNC($H19*ROUND(I19,2),2) -> 0 | G19: =TRUNC($H19*ROUND(J19,2),2) -> 139.55 | H19: 5 | I19: =IF(ISNUMBER($L19),VALUE(OFFSET(Banco!$A$1,Composições!$L19-1,COLUMN(Composições!I19)-4)),0) -> 0 | J19: =IF(ISNUMBER($L19),VALUE(OFFSET(Banco!$A$1,Composições!$L19-1,COLUMN(Composições!J19)-4)),0) -> 27.91 | K19: =COUNTA($A$1:$A19)-1 -> 1 | L19: =MATCH(Composições!CONCATENAR,Banco!$A:$A,0) -> 14585 | M19: =IF(OR(ISERROR($L19),$H19="",$H19=0),"",OFFSET(M$1,MATCH($K19,$K$1:$K19,0)-1,0)) -> F
B20: SINAPI | C20: 88248 | D20: =IF(ISNUMBER($L20),OFFSET(Banco!$A$1,Composições!$L20-1,COLUMN(Composições!D20)-1),"") -> AUXILIAR DE ENCANADOR OU BOMBEIRO HIDRÁULICO COM ENCARGOS COMPLEMENTARES | E20: =IF(ISNUMBER($L20),OFFSET(Banco!$A$1,Composições!$L20-1,COLUMN(Composições!E20)-1),"") -> H | F20: =TRUNC($H20*ROUND(I20,2),2) -> 0 | G20: =TRUNC($H20*ROUND(J20,2),2) -> 97.92 | H20: 4 | I20: =IF(ISNUMBER($L20),VALUE(OFFSET(Banco!$A$1,Composições!$L20-1,COLUMN(Composições!I20)-4)),0) -> 0 | J20: =IF(ISNUMBER($L20),VALUE(OFFSET(Banco!$A$1,Composições!$L20-1,COLUMN(Composições!J20)-4)),0) -> 24.48 | K20: =COUNTA($A$1:$A20)-1 -> 1 | L20: =MATCH(Composições!CONCATENAR,Banco!$A:$A,0) -> 7040 | M20: =IF(OR(ISERROR($L20),$H20="",$H20=0),"",OFFSET(M$1,MATCH($K20,$K$1:$K20,0)-1,0)) -> F
B21: SINAPI | C21: 88267 | D21: =IF(ISNUMBER($L21),OFFSET(Banco!$A$1,Composições!$L21-1,COLUMN(Composições!D21)-1),"") -> ENCANADOR OU BOMBEIRO HIDRÁULICO COM ENCARGOS COMPLEMENTARES | E21: =IF(ISNUMBER($L21),OFFSET(Banco!$A$1,Composições!$L21-1,COLUMN(Composições!E21)-1),"") -> H | F21: =TRUNC($H21*ROUND(I21,2),2) -> 0 | G21: =TRUNC($H21*ROUND(J21,2),2) -> 243.84 | H21: 8 | I21: =IF(ISNUMBER($L21),VALUE(OFFSET(Banco!$A$1,Composições!$L21-1,COLUMN(Composições!I21)-4)),0) -> 0 | J21: =IF(ISNUMBER($L21),VALUE(OFFSET(Banco!$A$1,Composições!$L21-1,COLUMN(Composições!J21)-4)),0) -> 30.48 | K21: =COUNTA($A$1:$A21)-1 -> 1 | L21: =MATCH(Composições!CONCATENAR,Banco!$A:$A,0) -> 7263 | M21: =IF(OR(ISERROR($L21),$H21="",$H21=0),"",OFFSET(M$1,MATCH($K21,$K$1:$K21,0)-1,0)) -> F
B22: SINAPI | C22: 88309 | D22: =IF(ISNUMBER($L22),OFFSET(Banco!$A$1,Composições!$L22-1,COLUMN(Composições!D22)-1),"") -> PEDREIRO COM ENCARGOS COMPLEMENTARES | E22: =IF(ISNUMBER($L22),OFFSET(Banco!$A$1,Composições!$L22-1,COLUMN(Composições!E22)-1),"") -> H | F22: =TRUNC($H22*ROUND(I22,2),2) -> 0 | G22: =TRUNC($H22*ROUND(J22,2),2) -> 249.68 | H22: 8 | I22: =IF(ISNUMBER($L22),VALUE(OFFSET(Banco!$A$1,Composições!$L22-1,COLUMN(Composições!I22)-4)),0) -> 0 | J22: =IF(ISNUMBER($L22),VALUE(OFFSET(Banco!$A$1,Composições!$L22-1,COLUMN(Composições!J22)-4)),0) -> 31.21 | K22: =COUNTA($A$1:$A22)-1 -> 1 | L22: =MATCH(Composições!CONCATENAR,Banco!$A:$A,0) -> 7349 | M22: =IF(OR(ISERROR($L22),$H22="",$H22=0),"",OFFSET(M$1,MATCH($K22,$K$1:$K22,0)-1,0)) -> F
B23: SINAPI | C23: 88316 | D23: =IF(ISNUMBER($L23),OFFSET(Banco!$A$1,Composições!$L23-1,COLUMN(Composições!D23)-1),"") -> SERVENTE COM ENCARGOS COMPLEMENTARES | E23: =IF(ISNUMBER($L23),OFFSET(Banco!$A$1,Composições!$L23-1,COLUMN(Composições!E23)-1),"") -> H | F23: =TRUNC($H23*ROUND(I23,2),2) -> 0 | G23: =TRUNC($H23*ROUND(J23,2),2) -> 183.83 | H23: 8.12 | I23: =IF(ISNUMBER($L23),VALUE(OFFSET(Banco!$A$1,Composições!$L23-1,COLUMN(Composições!I23)-4)),0) -> 0 | J23: =IF(ISNUMBER($L23),VALUE(OFFSET(Banco!$A$1,Composições!$L23-1,COLUMN(Composições!J23)-4)),0) -> 22.64 | K23: =COUNTA($A$1:$A23)-1 -> 1 | L23: =MATCH(Composições!CONCATENAR,Banco!$A:$A,0) -> 7362 | M23: =IF(OR(ISERROR($L23),$H23="",$H23=0),"",OFFSET(M$1,MATCH($K23,$K$1:$K23,0)-1,0)) -> F
B24: SINAPI | C24: 92273 | D24: =IF(ISNUMBER($L24),OFFSET(Banco!$A$1,Composições!$L24-1,COLUMN(Composições!D24)-1),"") -> FABRICAÇÃO DE ESCORAS DO TIPO PONTALETE, EM MADEIRA, PARA PÉ-DIREITO SIMPLES. AF_09/2020 | E24: =IF(ISNUMBER($L24),OFFSET(Banco!$A$1,Composições!$L24-1,COLUMN(Composições!E24)-1),"") -> M | F24: =TRUNC($H24*ROUND(I24,2),2) -> 0 | G24: =TRUNC($H24*ROUND(J24,2),2) -> 273.19 | H24: 17 | I24: =IF(ISNUMBER($L24),VALUE(OFFSET(Banco!$A$1,Composições!$L24-1,COLUMN(Composições!I24)-4)),0) -> 0 | J24: =IF(ISNUMBER($L24),VALUE(OFFSET(Banco!$A$1,Composições!$L24-1,COLUMN(Composições!J24)-4)),0) -> 16.07 | K24: =COUNTA($A$1:$A24)-1 -> 1 | L24: =MATCH(Composições!CONCATENAR,Banco!$A:$A,0) -> 4275 | M24: =IF(OR(ISERROR($L24),$H24="",$H24=0),"",OFFSET(M$1,MATCH($K24,$K$1:$K24,0)-1,0)) -> F
K25: =COUNTA($A$1:$A25)-1 -> 1 | M25: =IF(OFFSET($M$1,MATCH(OFFSET(K25,-1,0),$K$1:$K25,0)-1,0)="F","F","") -> F
A26: =CONCATENAR -> Composição FNDE 244 | B26: Composição | C26: FNDE 244 | D26: ADMINISTRAÇÃO LOCAL TIPO 1 (UN) | E26: UN | F26: =IF($L26>0,SUM(OFFSET(F26,1,0,$L26),0)) -> 0 | G26: =IF($L26>0,SUM(OFFSET(G26,1,0,$L26),0)) -> 479112.75 | I26: =IF(ISERROR(F26),0,F26) -> 0 | J26: =IF(ISERROR(G26),0,G26) -> 479112.75 | K26: =COUNTA($A$1:$A26)-1 -> 2 | L26: =IF(MAX(K:K)=K26,MATCH(9999999,$K:$K)+1,MATCH(K26+1,K:K,0))-ROW(L26)-2 -> 5 | M26: =IF(AND(OR(I26<>0,J26<>0),N26="Sim"),"F","") -> F | N26: Sim
B27: SINAPI | C27: 93563 | D27: =IF(ISNUMBER($L27),OFFSET(Banco!$A$1,Composições!$L27-1,COLUMN(Composições!D27)-1),"") -> ALMOXARIFE COM ENCARGOS COMPLEMENTARES | E27: =IF(ISNUMBER($L27),OFFSET(Banco!$A$1,Composições!$L27-1,COLUMN(Composições!E27)-1),"") -> MES | F27: =TRUNC($H27*ROUND(I27,2),2) -> 0 | G27: =TRUNC($H27*ROUND(J27,2),2) -> 47258 | H27: 10 | I27: =IF(ISNUMBER($L27),VALUE(OFFSET(Banco!$A$1,Composições!$L27-1,COLUMN(Composições!I27)-4)),0) -> 0 | J27: =IF(ISNUMBER($L27),VALUE(OFFSET(Banco!$A$1,Composições!$L27-1,COLUMN(Composições!J27)-4)),0) -> 4725.8 | K27: =COUNTA($A$1:$A27)-1 -> 2 | L27: =MATCH(Composições!CONCATENAR,Banco!$A:$A,0) -> 7024 | M27: =IF(OR(ISERROR($L27),$H27="",$H27=0),"",OFFSET(M$1,MATCH($K27,$K$1:$K27,0)-1,0)) -> F
B28: SINAPI | C28: 93572 | D28: =IF(ISNUMBER($L28),OFFSET(Banco!$A$1,Composições!$L28-1,COLUMN(Composições!D28)-1),"") -> ENCARREGADO GERAL DE OBRAS COM ENCARGOS COMPLEMENTARES | E28: =IF(ISNUMBER($L28),OFFSET(Banco!$A$1,Composições!$L28-1,COLUMN(Composições!E28)-1),"") -> MES | F28: =TRUNC($H28*ROUND(I28,2),2) -> 0 | G28: =TRUNC($H28*ROUND(J28,2),2) -> 106044.3 | H28: 10 | I28: =IF(ISNUMBER($L28),VALUE(OFFSET(Banco!$A$1,Composições!$L28-1,COLUMN(Composições!I28)-4)),0) -> 0 | J28: =IF(ISNUMBER($L28),VALUE(OFFSET(Banco!$A$1,Composições!$L28-1,COLUMN(Composições!J28)-4)),0) -> 10604.43 | K28: =COUNTA($A$1:$A28)-1 -> 2 | L28: =MATCH(Composições!CONCATENAR,Banco!$A:$A,0) -> 7266 | M28: =IF(OR(ISERROR($L28),$H28="",$H28=0),"",OFFSET(M$1,MATCH($K28,$K$1:$K28,0)-1,0)) -> F
B29: SINAPI | C29: 93565 | D29: =IF(ISNUMBER($L29),OFFSET(Banco!$A$1,Composições!$L29-1,COLUMN(Composições!D29)-1),"") -> ENGENHEIRO CIVIL DE OBRA JUNIOR COM ENCARGOS COMPLEMENTARES | E29: =IF(ISNUMBER($L29),OFFSET(Banco!$A$1,Composições!$L29-1,COLUMN(Composições!E29)-1),"") -> MES | F29: =TRUNC($H29*ROUND(I29,2),2) -> 0 | G29: =TRUNC($H29*ROUND(J29,2),2) -> 115630.25 | H29: 5 | I29: =IF(ISNUMBER($L29),VALUE(OFFSET(Banco!$A$1,Composições!$L29-1,COLUMN(Composições!I29)-4)),0) -> 0 | J29: =IF(ISNUMBER($L29),VALUE(OFFSET(Banco!$A$1,Composições!$L29-1,COLUMN(Composições!J29)-4)),0) -> 23126.05 | K29: =COUNTA($A$1:$A29)-1 -> 2 | L29: =MATCH(Composições!CONCATENAR,Banco!$A:$A,0) -> 7268 | M29: =IF(OR(ISERROR($L29),$H29="",$H29=0),"",OFFSET(M$1,MATCH($K29,$K$1:$K29,0)-1,0)) -> F
B30: SINAPI | C30: 94295 | D30: =IF(ISNUMBER($L30),OFFSET(Banco!$A$1,Composições!$L30-1,COLUMN(Composições!D30)-1),"") -> MESTRE DE OBRAS COM ENCARGOS COMPLEMENTARES | E30: =IF(ISNUMBER($L30),OFFSET(Banco!$A$1,Composições!$L30-1,COLUMN(Composições!E30)-1),"") -> MES | F30: =TRUNC($H30*ROUND(I30,2),2) -> 0 | G30: =TRUNC($H30*ROUND(J30,2),2) -> 169553.8 | H30: 10 | I30: =IF(ISNUMBER($L30),VALUE(OFFSET(Banco!$A$1,Composições!$L30-1,COLUMN(Composições!I30)-4)),0) -> 0 | J30: =IF(ISNUMBER($L30),VALUE(OFFSET(Banco!$A$1,Composições!$L30-1,COLUMN(Composições!J30)-4)),0) -> 16955.38 | K30: =COUNTA($A$1:$A30)-1 -> 2 | L30: =MATCH(Composições!CONCATENAR,Banco!$A:$A,0) -> 7292 | M30: =IF(OR(ISERROR($L30),$H30="",$H30=0),"",OFFSET(M$1,MATCH($K30,$K$1:$K30,0)-1,0)) -> F
B31: SINAPI | C31: 101452 | D31: =IF(ISNUMBER($L31),OFFSET(Banco!$A$1,Composições!$L31-1,COLUMN(Composições!D31)-1),"") -> SERVENTE DE OBRAS COM ENCARGOS COMPLEMENTARES | E31: =IF(ISNUMBER($L31),OFFSET(Banco!$A$1,Composições!$L31-1,COLUMN(Composições!E31)-1),"") -> MES | F31: =TRUNC($H31*ROUND(I31,2),2) -> 0 | G31: =TRUNC($H31*ROUND(J31,2),2) -> 40626.4 | H31: 10 | I31: =IF(ISNUMBER($L31),VALUE(OFFSET(Banco!$A$1,Composições!$L31-1,COLUMN(Composições!I31)-4)),0) -> 0 | J31: =IF(ISNUMBER($L31),VALUE(OFFSET(Banco!$A$1,Composições!$L31-1,COLUMN(Composições!J31)-4)),0) -> 4062.64 | K31: =COUNTA($A$1:$A31)-1 -> 2 | L31: =MATCH(Composições!CONCATENAR,Banco!$A:$A,0) -> 7363 | M31: =IF(OR(ISERROR($L31),$H31="",$H31=0),"",OFFSET(M$1,MATCH($K31,$K$1:$K31,0)-1,0)) -> F
K32: =COUNTA($A$1:$A32)-1 -> 2 | M32: =IF(OFFSET($M$1,MATCH(OFFSET(K32,-1,0),$K$1:$K32,0)-1,0)="F","F","") -> F
A33: =CONCATENAR -> Composição FNDE 231 | B33: Composição | C33: FNDE 231 | D33: LOCACAO DE CONTAINER 2,30 X 6,00 M, ALT. 2,50 M, COM 1 SANITARIO, PARA ESCRITORIO, COMPLETO, SEM DIVISORIAS INTERNAS (NAO INCLUI MOBILIZACAO/DESMOBILIZACAO) (MÊS) | E33: MÊS | F33: =IF($L33>0,SUM(OFFSET(F33,1,0,$L33),0)) -> 0 | G33: =IF($L33>0,SUM(OFFSET(G33,1,0,$L33),0)) -> 1154.07 | I33: =IF(ISERROR(F33),0,F33) -> 0 | J33: =IF(ISERROR(G33),0,G33) -> 1154.07 | K33: =COUNTA($A$1:$A33)-1 -> 3 | L33: =IF(MAX(K:K)=K33,MATCH(9999999,$K:$K)+1,MATCH(K33+1,K:K,0))-ROW(L33)-2 -> 3 | M33: =IF(AND(OR(I33<>0,J33<>0),N33="Sim"),"F","") -> F | N33: Sim
B34: SINAPI-I | C34: 10775 | D34: =IF(ISNUMBER($L34),OFFSET(Banco!$A$1,Composições!$L34-1,COLUMN(Composições!D34)-1),"") -> LOCACAO DE CONTAINER 2,30 X 6,00 M, ALT. 2,50 M, COM 1 SANITARIO, PARA ESCRITORIO, COMPLETO, SEM DIVISORIAS INTERNAS (NAO INCLUI MOBILIZACAO/DESMOBILIZACAO) | E34: =IF(ISNUMBER($L34),OFFSET(Banco!$A$1,Composições!$L34-1,COLUMN(Composições!E34)-1),"") -> MES | F34: =TRUNC($H34*ROUND(I34,2),2) -> 0 | G34: =TRUNC($H34*ROUND(J34,2),2) -> 960 | H34: 1 | I34: =IF(ISNUMBER($L34),VALUE(OFFSET(Banco!$A$1,Composições!$L34-1,COLUMN(Composições!I34)-4)),0) -> 0 | J34: =IF(ISNUMBER($L34),VALUE(OFFSET(Banco!$A$1,Composições!$L34-1,COLUMN(Composições!J34)-4)),0) -> 960 | K34: =COUNTA($A$1:$A34)-1 -> 3 | L34: =MATCH(Composições!CONCATENAR,Banco!$A:$A,0) -> 12498 | M34: =IF(OR(ISERROR($L34),$H34="",$H34=0),"",OFFSET(M$1,MATCH($K34,$K$1:$K34,0)-1,0)) -> F
B35: SINAPI | C35: 105114 | D35: =IF(ISNUMBER($L35),OFFSET(Banco!$A$1,Composições!$L35-1,COLUMN(Composições!D35)-1),"") -> EXECUÇÃO DOS APOIOS PARA CONTÊINER OU MÓDULO HABITÁVEL. AF_03/2024 | E35: =IF(ISNUMBER($L35),OFFSET(Banco!$A$1,Composições!$L35-1,COLUMN(Composições!E35)-1),"") -> M3 | F35: =TRUNC($H35*ROUND(I35,2),2) -> 0 | G35: =TRUNC($H35*ROUND(J35,2),2) -> 180.6 | H35: 0.096 | I35: =IF(ISNUMBER($L35),VALUE(OFFSET(Banco!$A$1,Composições!$L35-1,COLUMN(Composições!I35)-4)),0) -> 0 | J35: =IF(ISNUMBER($L35),VALUE(OFFSET(Banco!$A$1,Composições!$L35-1,COLUMN(Composições!J35)-4)),0) -> 1881.29 | K35: =COUNTA($A$1:$A35)-1 -> 3 | L35: =MATCH(Composições!CONCATENAR,Banco!$A:$A,0) -> 6871 | M35: =IF(OR(ISERROR($L35),$H35="",$H35=0),"",OFFSET(M$1,MATCH($K35,$K$1:$K35,0)-1,0)) -> F
B36: SINAPI | C36: 105115 | D36: =IF(ISNUMBER($L36),OFFSET(Banco!$A$1,Composições!$L36-1,COLUMN(Composições!D36)-1),"") -> INSTALAÇÃO E DESINSTALAÇÃO MECANIZADA DE CONTÊINER OU MÓDULO HABITÁVEL DE USOS DIVERSOS. AF_03/2024 | E36: =IF(ISNUMBER($L36),OFFSET(Banco!$A$1,Composições!$L36-1,COLUMN(Composições!E36)-1),"") -> UN | F36: =TRUNC($H36*ROUND(I36,2),2) -> 0 | G36: =TRUNC($H36*ROUND(J36,2),2) -> 13.47 | H36: 0.1 | I36: =IF(ISNUMBER($L36),VALUE(OFFSET(Banco!$A$1,Composições!$L36-1,COLUMN(Composições!I36)-4)),0) -> 0 | J36: =IF(ISNUMBER($L36),VALUE(OFFSET(Banco!$A$1,Composições!$L36-1,COLUMN(Composições!J36)-4)),0) -> 134.71 | K36: =COUNTA($A$1:$A36)-1 -> 3 | L36: =MATCH(Composições!CONCATENAR,Banco!$A:$A,0) -> 6877 | M36: =IF(OR(ISERROR($L36),$H36="",$H36=0),"",OFFSET(M$1,MATCH($K36,$K$1:$K36,0)-1,0)) -> F
K37: =COUNTA($A$1:$A37)-1 -> 3 | M37: =IF(OFFSET($M$1,MATCH(OFFSET(K37,-1,0),$K$1:$K37,0)-1,0)="F","F","") -> F
A38: =CONCATENAR -> Composição FNDE 230 | B38: Composição | C38: FNDE 230 | D38: LOCACAO DE CONTAINER 2,30 X 6,00 M, ALT. 2,50 M, PARA ESCRITORIO, SEM DIVISORIAS INTERNAS E SEM SANITARIO (NAO INCLUI MOBILIZACAO/DESMOBILIZACAO) (MÊS) | E38: MÊS | F38: =IF($L38>0,SUM(OFFSET(F38,1,0,$L38),0)) -> 0 | G38: =IF($L38>0,SUM(OFFSET(G38,1,0,$L38),0)) -> 944.07 | I38: =IF(ISERROR(F38),0,F38) -> 0 | J38: =IF(ISERROR(G38),0,G38) -> 944.07 | K38: =COUNTA($A$1:$A38)-1 -> 4 | L38: =IF(MAX(K:K)=K38,MATCH(9999999,$K:$K)+1,MATCH(K38+1,K:K,0))-ROW(L38)-2 -> 3 | M38: =IF(AND(OR(I38<>0,J38<>0),N38="Sim"),"F","") -> F | N38: Sim
B39: SINAPI-I | C39: 10776 | D39: =IF(ISNUMBER($L39),OFFSET(Banco!$A$1,Composições!$L39-1,COLUMN(Composições!D39)-1),"") -> LOCACAO DE CONTAINER 2,30 X 6,00 M, ALT. 2,50 M, PARA ESCRITORIO, SEM DIVISORIAS INTERNAS E SEM SANITARIO (NAO INCLUI MOBILIZACAO/DESMOBILIZACAO) | E39: =IF(ISNUMBER($L39),OFFSET(Banco!$A$1,Composições!$L39-1,COLUMN(Composições!E39)-1),"") -> MES | F39: =TRUNC($H39*ROUND(I39,2),2) -> 0 | G39: =TRUNC($H39*ROUND(J39,2),2) -> 750 | H39: 1 | I39: =IF(ISNUMBER($L39),VALUE(OFFSET(Banco!$A$1,Composições!$L39-1,COLUMN(Composições!I39)-4)),0) -> 0 | J39: =IF(ISNUMBER($L39),VALUE(OFFSET(Banco!$A$1,Composições!$L39-1,COLUMN(Composições!J39)-4)),0) -> 750 | K39: =COUNTA($A$1:$A39)-1 -> 4 | L39: =MATCH(Composições!CONCATENAR,Banco!$A:$A,0) -> 12499 | M39: =IF(OR(ISERROR($L39),$H39="",$H39=0),"",OFFSET(M$1,MATCH($K39,$K$1:$K39,0)-1,0)) -> F
B40: SINAPI | C40: 105114 | D40: =IF(ISNUMBER($L40),OFFSET(Banco!$A$1,Composições!$L40-1,COLUMN(Composições!D40)-1),"") -> EXECUÇÃO DOS APOIOS PARA CONTÊINER OU MÓDULO HABITÁVEL. AF_03/2024 | E40: =IF(ISNUMBER($L40),OFFSET(Banco!$A$1,Composições!$L40-1,COLUMN(Composições!E40)-1),"") -> M3 | F40: =TRUNC($H40*ROUND(I40,2),2) -> 0 | G40: =TRUNC($H40*ROUND(J40,2),2) -> 180.6 | H40: 0.096 | I40: =IF(ISNUMBER($L40),VALUE(OFFSET(Banco!$A$1,Composições!$L40-1,COLUMN(Composições!I40)-4)),0) -> 0 | J40: =IF(ISNUMBER($L40),VALUE(OFFSET(Banco!$A$1,Composições!$L40-1,COLUMN(Composições!J40)-4)),0) -> 1881.29 | K40: =COUNTA($A$1:$A40)-1 -> 4 | L40: =MATCH(Composições!CONCATENAR,Banco!$A:$A,0) -> 6871 | M40: =IF(OR(ISERROR($L40),$H40="",$H40=0),"",OFFSET(M$1,MATCH($K40,$K$1:$K40,0)-1,0)) -> F
B41: SINAPI | C41: 105115 | D41: =IF(ISNUMBER($L41),OFFSET(Banco!$A$1,Composições!$L41-1,COLUMN(Composições!D41)-1),"") -> INSTALAÇÃO E DESINSTALAÇÃO MECANIZADA DE CONTÊINER OU MÓDULO HABITÁVEL DE USOS DIVERSOS. AF_03/2024 | E41: =IF(ISNUMBER($L41),OFFSET(Banco!$A$1,Composições!$L41-1,COLUMN(Composições!E41)-1),"") -> UN | F41: =TRUNC($H41*ROUND(I41,2),2) -> 0 | G41: =TRUNC($H41*ROUND(J41,2),2) -> 13.47 | H41: 0.1 | I41: =IF(ISNUMBER($L41),VALUE(OFFSET(Banco!$A$1,Composições!$L41-1,COLUMN(Composições!I41)-4)),0) -> 0 | J41: =IF(ISNUMBER($L41),VALUE(OFFSET(Banco!$A$1,Composições!$L41-1,COLUMN(Composições!J41)-4)),0) -> 134.71 | K41: =COUNTA($A$1:$A41)-1 -> 4 | L41: =MATCH(Composições!CONCATENAR,Banco!$A:$A,0) -> 6877 | M41: =IF(OR(ISERROR($L41),$H41="",$H41=0),"",OFFSET(M$1,MATCH($K41,$K$1:$K41,0)-1,0)) -> F
K42: =COUNTA($A$1:$A42)-1 -> 4 | M42: =IF(OFFSET($M$1,MATCH(OFFSET(K42,-1,0),$K$1:$K42,0)-1,0)="F","F","") -> F
A43: =CONCATENAR -> Composição FNDE 232 | B43: Composição | C43: FNDE 232 | D43: LOCACAO DE CONTAINER 2,30 X 6,00 M, ALT. 2,50 M, PARA SANITARIO, COM 4 BACIAS, 8 CHUVEIROS,1 LAVATORIO E 1 MICTORIO (NAO INCLUI MOBILIZACAO/DESMOBILIZACAO) (MÊS) | E43: MÊS | F43: =IF($L43>0,SUM(OFFSET(F43,1,0,$L43),0)) -> 0 | G43: =IF($L43>0,SUM(OFFSET(G43,1,0,$L43),0)) -> 1394.07 | I43: =IF(ISERROR(F43),0,F43) -> 0 | J43: =IF(ISERROR(G43),0,G43) -> 1394.07 | K43: =COUNTA($A$1:$A43)-1 -> 5 | L43: =IF(MAX(K:K)=K43,MATCH(9999999,$K:$K)+1,MATCH(K43+1,K:K,0))-ROW(L43)-2 -> 3 | M43: =IF(AND(OR(I43<>0,J43<>0),N43="Sim"),"F","") -> F | N43: Sim
...

Sheet Cotações
B1: COTAÇÕES | K1: Mediana
K2: Média
K3: 1
B6: =OFFSET(Cotações!$A$1,MATCH(COUNTIF($H$1:$H6,"Cotações"),Cotações!$J:$J,0)-1,COLUMN(Banco!B$6)-1) -> COTAÇÃO | C6: =OFFSET(Cotações!$A$1,MATCH(COUNTIF($H$1:$H6,"Cotações"),Cotações!$J:$J,0)-1,COLUMN(Banco!C$6)-1) -> COT-01 | D6: =IF(COUNTIF(OFFSET(Banco!$A$6,1+NCOMPOSICOES,0,NCOTACOES),$A6)>1,"CÓDIGO REPETIDO",OFFSET(Cotações!$A$1,MATCH(COUNTIF($H$1:$H6,"Cotações"),Cotações!$J:$J,0)-1,COLUMN(Banco!D$6)-1)) -> CISTERNA MODULARES TECNOTRI OU EQUIVALENTE TECNICO - 600L | E6: =OFFSET(Cotações!$A$1,MATCH(COUNTIF($H$1:$H6,"Cotações"),Cotações!$J:$J,0)-1,COLUMN(Banco!E$6)-1) -> UNIDADE | F6: =OFFSET(Cotações!$A$1,MATCH(COUNTIF($H$1:$H6,"Cotações"),Cotações!$J:$J,0)-1,COLUMN(Banco!F$6)-1) -> 1850 | G6: =OFFSET(Cotações!$A$1,MATCH(COUNTIF($H$1:$H6,"Cotações"),Cotações!$J:$J,0)-1,COLUMN(Banco!F$6)-1) -> 1850 | H6: Cotações
B8: I001 | I8: =F8/H8 -> #DIV/0! | J8: I | L8: =IF(ISNUMBER(I8),IF(I8<>0,"F",""),"")
B10: E001 | J10: E | L10: =IF(COUNTA(C10:I10)>0,"F","")
B12: FONTE | C12: CÓDIGO | D12: DESCRIÇÃO | E12: UNIDADE | F12: =CHOOSE($K$3,"MEDIANA","MÉDIA")&IF(H13="",""," RETROAGIDA") -> MEDIANA | H12: ÍNDICE RETROAÇÃO | L12: =IF(AND(ISNUMBER(F13),M13="Sim"),"F","")
A13: =CONCATENAR -> COTAÇÃO | B13: COTAÇÃO | F13: =CHOOSE($K$3,MEDIAN(OFFSET(F14,1,0,ROW(C16)-ROW(C14)-1)),AVERAGE(OFFSET(F14,1,0,ROW(C16)-ROW(C14)-1)))*IF(H13="",1,VLOOKUP(H13,INDICES,8)) -> #NUM! | J13: =COUNTA($A$1:$A13)-1 -> 0 | K13: =ROW(C16)-ROW(C14)-1 -> 1 | L13: =IF(AND(ISNUMBER(F13),M13="Sim"),"F","") | M13: Sim
C14: EMPRESA | D14: NOME DA EMPRESA | F14: COTAÇÕES | H14: DATA COTAÇÃO | J14: C | L14: =IF(AND(ISNUMBER(F13),M13="Sim"),"F","")
D15: =IF(C15<>"",VLOOKUP(C15,EMPRESAS,3,FALSE),"") | J15: C | L15: =IF(AND(ISNUMBER(OFFSET($F$1,MATCH(MAX($J$1:$J15),$J$1:$J15,0)-1,0)),ISNUMBER(F15),INDEX($M$1:$M15,MATCH("ZZZZ",$M$1:$M15))="Sim"),"F","")
C16: OBSERVAÇÕES: | L16: =IF(AND(ISNUMBER(F13),M13="Sim"),"F","")
L17: =IF(AND(ISNUMBER(F13),M13="Sim"),"F","")
L18: FILTRO | M18: IMPRIMIR
B19: ÍNDICES DE RETROAÇÃO: | L19: =IF(NINDICES>0,"F","") -> F
B20: ÍNDICE | C20: NOME DO ÍNDICE | D20: DESCRIÇÃO | E20: DATA BASE | F20: ÍNDICE DT BASE | G20: DT COTAÇÃO | H20: ÍNDICE DT COT. | I20: COEFICIENTE | J20: I | L20: =IF(NINDICES>0,"F","") -> F
B21: I001 | I21: =F21/H21 -> #DIV/0! | J21: I | L21: =IF(ISNUMBER(I21),IF(I21<>0,"F",""),"")
B22: EMPRESAS FORNECEDORAS: | L22: =IF(NEMPRESAS>0,"F","") -> F
B23: EMPRESAS | C23: CNPJ | D23: NOME | F23: FONE | H23: CONTATO | J23: E | L23: =IF(NEMPRESAS>0,"F","") -> F
B24: E001 | C24: 22.245.660/0001-75 | D24: ECO SUSTENVEL | F24: (38) 99818-5607 | J24: E | L24: =IF(COUNTA(C24:I24)>0,"F","") -> F
B25: E002 | C25: 27.381.923/0001-97 | D25: GLOBALOFERTAS COMERCIO DE ELETRODOMESTICOS LTDA. | F25: 55 3322-2823 | J25: E | L25: =IF(COUNTA(C25:I25)>0,"F","") -> F
B26: E003 | C26: 24.522.297/0001-13 | D26: AQUALIS ECO SUSTENTABILIDADE SERVICOS E COMERCIO LTDA | F26: (44)3023-9587 | J26: E | L26: =IF(COUNTA(C26:I26)>0,"F","") -> F
B27: E004 | C27: 48.960.685/0001-44 | D27: YELLOW COMERCIO DE PRODUTOS INFANTIS LTDA | F27: 17 3462-2156 | J27: E | L27: =IF(COUNTA(C27:I27)>0,"F","") -> F
B28: E005 | C28: 10.836.554/0001-87 | D28: ALVES BABY COMERCIO DE PRODUTOS INFANTIS LTDA | F28: 19 3861-7377 | J28: E | L28: =IF(COUNTA(C28:I28)>0,"F","") -> F
B29: E006 | C29: 18.082.277/0001-76 | D29: PITUCHINHUS INDUSTRIA E COMERCIO DE CONFECCOES LTDA | F29: 55 93300-5116 | J29: E | L29: =IF(COUNTA(C29:I29)>0,"F","") -> F
B30: E007 | C30: 15.430.669/0001-90 | D30: Zig Ferramentas | F30: 11 99191-2810 | J30: E | L30: =IF(COUNTA(C30:I30)>0,"F","") -> F
B31: E008 | C31: 37.333.375/0001-83 | D31: TEM NA TRENA LTDA | F31: (21) 3550-9670 | J31: E | L31: =IF(COUNTA(C31:I31)>0,"F","") -> F
B32: E016 | C32: 91.362.590/0065-12 | D32: Solar Comércio e Agroindústria Ltda | F32: (51) 3638-5000 | J32: E | L32: =IF(COUNTA(C32:I32)>0,"F","") -> F
B33: E017 | C33: 08.678.892/0001-96 | D33: Construmaia S/A | F33: (38) 3223-2392 | J33: E | L33: =IF(COUNTA(C33:I33)>0,"F","") -> F
B34: E018 | C34: 17.155.342/0010-74 | D34: Loja Elétrica LTAD | F34: (31) 3218-8000 | J34: E | L34: =IF(COUNTA(C34:I34)>0,"F","") -> F
B35: E019 | C35: 14.778.311/0001-90 | D35: BOMBA SHOPPING | F35: (11) 2971-5695 | J35: E | L35: =IF(COUNTA(C35:I35)>0,"F","") -> F
... B44: E028 | C44: 18.224.881/0003-51 | D44: TERMOTECNICA INDUSTRIA E COMERCIO LTDA | F44: (11) 5197-4000 | J44: E | L44: =IF(COUNTA(C44:I44)>0,"F","") -> F
B45: COTAÇÕES: | L45: =IF(NCOTACOES>0,"F","") -> F
B46: FONTE | C46: CÓDIGO | D46: DESCRIÇÃO | E46: UNIDADE | F46: =CHOOSE($K$3,"MEDIANA","MÉDIA")&IF(H47="",""," RETROAGIDA") -> MEDIANA | H46: ÍNDICE RETROAÇÃO | L46: =IF(AND(ISNUMBER(F47),M47="Sim"),"F","") -> F
A47: =CONCATENAR -> COTAÇÃO COT-01 | B47: COTAÇÃO | C47: COT-01 | D47: CISTERNA MODULARES TECNOTRI OU EQUIVALENTE TECNICO - 600L | E47: UNIDADE | F47: =CHOOSE($K$3,MEDIAN(OFFSET(F48,1,0,ROW(C52)-ROW(C48)-1)),AVERAGE(OFFSET(F48,1,0,ROW(C52)-ROW(C48)-1)))*IF(H47="",1,VLOOKUP(H47,INDICES,8)) -> 1850 | J47: =COUNTA($A$1:$A47)-1 -> 1 | K47: =ROW(C52)-ROW(C48)-1 -> 3 | L47: =IF(AND(ISNUMBER(F47),M47="Sim"),"F","") -> F | M47: Sim
C48: EMPRESA | D48: NOME DA EMPRESA | F48: COTAÇÕES | H48: DATA COTAÇÃO | J48: C | L48: =IF(AND(ISNUMBER(F47),M47="Sim"),"F","") -> F
C49: E001 | D49: =IF(C49<>"",VLOOKUP(C49,EMPRESAS,3,FALSE),"") -> ECO SUSTENVEL | F49: 1759.12 | H49: 03/04/2025 | J49: C | L49: =IF(AND(ISNUMBER(OFFSET($F$1,MATCH(MAX($J$1:$J49),$J$1:$J49,0)-1,0)),ISNUMBER(F49),INDEX($M$1:$M49,MATCH("ZZZZ",$M$1:$M49))="Sim"),"F","") -> F
C50: E002 | D50: =IF(C50<>"",VLOOKUP(C50,EMPRESAS,3,FALSE),"") -> GLOBALOFERTAS COMERCIO DE ELETRODOMESTICOS LTDA. | F50: 2300 | H50: 03/04/2026 | J50: C | L50: =IF(AND(ISNUMBER(OFFSET($F$1,MATCH(MAX($J$1:$J50),$J$1:$J50,0)-1,0)),ISNUMBER(F50),INDEX($M$1:$M50,MATCH("ZZZZ",$M$1:$M50))="Sim"),"F","") -> F
C51: E003 | D51: =IF(C51<>"",VLOOKUP(C51,EMPRESAS,3,FALSE),"") -> AQUALIS ECO SUSTENTABILIDADE SERVICOS E COMERCIO LTDA | F51: 1850 | H51: 03/04/2027 | J51: C | L51: =IF(AND(ISNUMBER(OFFSET($F$1,MATCH(MAX($J$1:$J51),$J$1:$J51,0)-1,0)),ISNUMBER(F51),INDEX($M$1:$M51,MATCH("ZZZZ",$M$1:$M51))="Sim"),"F","") -> F
C52: OBSERVAÇÕES: | L52: =IF(AND(ISNUMBER(F47),M47="Sim"),"F","") -> F
L53: =IF(AND(ISNUMBER(F47),M47="Sim"),"F","") -> F
...

Sheet Relatórios
A1: DADOS DOS RELATÓRIOS IMPORTADOS
A5: TIPO | B5: ENCARGOS SOCIAIS | C5: ABRANGÊNCIA | D5: LOCALIDADE | E5: VÍNCULO | F5: DATA PREÇOS | G5: DATA DE RT | H5: DATA EMISSÃO
A6: SINAPI | D6: BH | F6: 02/2025
A7: SINAPI-I | D7: BH | F7: 02/2025
A8: SPObras | D8: SP | F8: 01/2025
A9: Orse | D9: SE | F9: 01/2025
A10: SPObras | D10: SP | F10: 01/2025
A11: Orse | D11: SE | F11: 01/2025
A12: SPObras | D12: SP | F12: 01/2025
A13: SINAPI-I | D13: Belo Horizonte | F13: 02/2025
A14: SINAPI | D14: Belo Horizonte | F14: 02/2025
A15: SPObras | D15: SP | F15: 01/2025
A16: SINAPI | D16: Belo Horizonte | F16: 02/2025
A17: SPObras | D17: SP | F17: 01/2025

Sheet Busca
B1: BUSCA
B2: CONTÉM:
B3: NÃO CONTÉM:
B4: RELATÓRIOS:
B5: FONTE | C5: CÓDIGO | D5: DESCRIÇÃO | E5: UNIDADE | F5: DESONERADO | G5: NÃO DESONERADO | I5: ORIGEM DO PREÇO
